BEGIN:VCALENDAR
VERSION:2.0
PRODID:-//Junge Grüne Zürich - ECPv6.2.3//NONSGML v1.0//EN
CALSCALE:GREGORIAN
METHOD:PUBLISH
X-WR-CALNAME:Junge Grüne Zürich
X-ORIGINAL-URL:https://wilde-zukunft.ch
X-WR-CALDESC:Veranstaltungen für Junge Grüne Zürich
REFRESH-INTERVAL;VALUE=DURATION:PT1H
X-Robots-Tag:noindex
X-PUBLISHED-TTL:PT1H
BEGIN:VTIMEZONE
TZID:Europe/Zurich
BEGIN:DAYLIGHT
TZOFFSETFROM:+0100
TZOFFSETTO:+0200
TZNAME:CEST
DTSTART:20250330T010000
END:DAYLIGHT
BEGIN:STANDARD
TZOFFSETFROM:+0200
TZOFFSETTO:+0100
TZNAME:CET
DTSTART:20251026T010000
END:STANDARD
END:VTIMEZONE
BEGIN:VEVENT
DTSTART;VALUE=DATE:20250928
DTEND;VALUE=DATE:20250929
DTSTAMP:20231022T073127
CREATED:20190528T143210Z
LAST-MODIFIED:20201210T224339Z
UID:615-1759017600-1759103999@wilde-zukunft.ch
SUMMARY:Nationale Klimademo
DESCRIPTION:
URL:https://wilde-zukunft.ch/event/nationale-klimademo
LOCATION:Bern
END:VEVENT
END:VCALENDAR